BEGIN:VCALENDAR
VERSION:2.0
PRODID:-//wp-events-plugin.com//7.2.3.1//EN
TZID:Europe/Berlin
X-WR-TIMEZONE:Europe/Berlin
BEGIN:VEVENT
UID:3@digital-chemlab.de
DTSTART;TZID=Europe/Berlin;VALUE=DATE:20250226
DTEND;TZID=Europe/Berlin;VALUE=DATE:20250227
DTSTAMP:20250219T181630Z
URL:https://www.digital-chemlab.de/veranstaltung/testlabor3/
SUMMARY:Testlabor3
DESCRIPTION:
CATEGORIES:Schülerlabor
LOCATION:Rostock\, Albert-Einstein-Str. 27\, Rostock\, 18059\, Deutschland
X-APPLE-STRUCTURED-LOCATION;VALUE=URI;X-ADDRESS=Albert-Einstein-Str. 27\, R
 ostock\, 18059\, Deutschland;X-APPLE-RADIUS=100;X-TITLE=Rostock:geo:0,0
END:VEVENT
BEGIN:VTIMEZONE
TZID:Europe/Berlin
X-LIC-LOCATION:Europe/Berlin
BEGIN:STANDARD
DTSTART:20241027T020000
TZOFFSETFROM:+0200
TZOFFSETTO:+0100
TZNAME:CET
END:STANDARD
END:VTIMEZONE
END:VCALENDAR