BEGIN:VCALENDAR
VERSION:2.0
PRODID:-//wp-events-plugin.com//7.2.3.1//EN
TZID:Europe/Berlin
X-WR-TIMEZONE:Europe/Berlin
BEGIN:VEVENT
UID:1@digital-chemlab.de
DTSTART;TZID=Europe/Berlin:20250213T090000
DTEND;TZID=Europe/Berlin:20250213T120000
DTSTAMP:20250202T120552Z
URL:https://www.digital-chemlab.de/veranstaltung/testlabor1/
SUMMARY:Testlabor1
DESCRIPTION:
ATTACH;FMTTYPE=image/jpeg:https://www.digital-chemlab.de/wp-content/upload
 s/2025/01/cropped-IMG_20231107_145050-scaled-2.jpg
CATEGORIES:Schülerlabor
LOCATION:Rostock\, Albert-Einstein-Str. 27\, Rostock\, 18059\, Deutschland
X-APPLE-STRUCTURED-LOCATION;VALUE=URI;X-ADDRESS=Albert-Einstein-Str. 27\, R
 ostock\, 18059\, Deutschland;X-APPLE-RADIUS=100;X-TITLE=Rostock:geo:0,0
END:VEVENT
BEGIN:VTIMEZONE
TZID:Europe/Berlin
X-LIC-LOCATION:Europe/Berlin
BEGIN:STANDARD
DTSTART:20241027T020000
TZOFFSETFROM:+0200
TZOFFSETTO:+0100
TZNAME:CET
END:STANDARD
END:VTIMEZONE
END:VCALENDAR